BEGIN:VCALENDAR
VERSION:2.0
PRODID:-//Tukios.com/
BEGIN:VEVENT
UID:4c83bc8d-046d-40cc-b0f6-10a60f075c6f@www.fairhavenfortwayne.com
DTSTAMP:20260421T003959Z
DTSTART:20260509T200000Z
DTEND:20260509T210000Z
SUMMARY:Celebration of Life
DESCRIPTION:
URL:https://www.fairhavenfortwayne.com/obituaries/youvat-picklesimer
LOCATION:Neighbors House Church 12828 Main Street  Leo-Cedarville IN 
	46765
GEO:41.2029963;-85.0210615
END:VEVENT
END:VCALENDAR