BEGIN:VCALENDAR
VERSION:2.0
PRODID:-//Tukios.com/
BEGIN:VEVENT
UID:c6e8cb4a-128c-4d33-aa08-28323de21736@www.fairhavenfortwayne.com
DTSTAMP:20260423T164236Z
DTSTART:20260509T130000Z
DTEND:20260509T150000Z
SUMMARY:Visitation
DESCRIPTION:
URL:https://www.fairhavenfortwayne.com/obituaries/terry-shoemaker
LOCATION:Westview Alliance Church 9804 Illinois Rd  Fort Wayne IN 46804
GEO:41.074825;-85.269586
END:VEVENT
END:VCALENDAR