BEGIN:VCALENDAR
VERSION:2.0
PRODID:-//Tukios.com/
BEGIN:VEVENT
UID:2713c29a-b276-4a53-b80b-88004d536c43@www.fairhavenfortwayne.com
DTSTAMP:20260423T164409Z
DTSTART:20260509T150000Z
DTEND:20260509T160000Z
SUMMARY:Celebration of Life
DESCRIPTION:
URL:https://www.fairhavenfortwayne.com/obituaries/terry-shoemaker
LOCATION:Westview Alliance Church 9804 Illinois Rd  Fort Wayne IN 46804
GEO:41.074825;-85.269586
END:VEVENT
END:VCALENDAR