BEGIN:VCALENDAR
VERSION:2.0
PRODID:-//Tukios.com/
BEGIN:VEVENT
UID:e77f5095-7130-4937-9c5e-1243f37aa9f6@www.fairhavenfortwayne.com
DTSTAMP:20260424T202750Z
DTSTART:20260429T150000Z
DTEND:20260429T170000Z
SUMMARY:Visitation
DESCRIPTION:
URL:https://www.fairhavenfortwayne.com/obituaries/teresa-koshurin
LOCATION:FairHaven Funeral Home and Cremation Services 6557 N Clinton St  
	Fort Wayne IN 46825
GEO:41.1401619;-85.1181054
END:VEVENT
END:VCALENDAR