BEGIN:VCALENDAR
VERSION:2.0
PRODID:-//Tukios.com/
BEGIN:VEVENT
UID:998f81d1-34f7-4e7e-a6a6-638d7e9c3fc5@www.fairhavenfortwayne.com
DTSTAMP:20260422T155238Z
DTSTART:20260523T150000Z
DTEND:20260523T160000Z
SUMMARY:Celebration of Life
DESCRIPTION:
URL:https://www.fairhavenfortwayne.com/obituaries/sharon-zietlow
LOCATION:Harvest Word of Life Ministries 2260 Lake Avenue  Fort Wayne IN 
	46805
GEO:41.0882151;-85.109113
END:VEVENT
END:VCALENDAR