BEGIN:VCALENDAR
VERSION:2.0
PRODID:-//Tukios.com/
BEGIN:VEVENT
UID:4e1c24f4-987e-44f2-ad96-0a63f7dccc20@www.fairhavenfortwayne.com
DTSTAMP:20260420T214120Z
DTSTART:20260423T133000Z
DTEND:20260423T143000Z
SUMMARY:Visitation
DESCRIPTION:
URL:https://www.fairhavenfortwayne.com/obituaries/patsy-mccormick
LOCATION:FairHaven Funeral Home and Cremation Services 6557 N Clinton St  
	Fort Wayne IN 46825
GEO:41.1401619;-85.1181054
END:VEVENT
END:VCALENDAR