BEGIN:VCALENDAR
VERSION:2.0
PRODID:-//Tukios.com/
BEGIN:VEVENT
UID:75378637-2f08-444e-8b58-d573b8cfc426@www.fairhavenfortwayne.com
DTSTAMP:20260420T214509Z
DTSTART:20260422T200000Z
DTEND:20260423T000000Z
SUMMARY:Visitation
DESCRIPTION:
URL:https://www.fairhavenfortwayne.com/obituaries/patsy-mccormick
LOCATION:FairHaven Funeral Home and Cremation Services 6557 N Clinton St  
	Fort Wayne IN 46825
GEO:41.1401619;-85.1181054
END:VEVENT
END:VCALENDAR