BEGIN:VCALENDAR
VERSION:2.0
PRODID:-//Tukios.com/
BEGIN:VEVENT
UID:ea18e487-4d35-4d43-875d-29e8ab61d5c7@www.fairhavenfortwayne.com
DTSTAMP:20260420T214247Z
DTSTART:20260423T143000Z
DTEND:20260423T153000Z
SUMMARY:Funeral Service
DESCRIPTION:
URL:https://www.fairhavenfortwayne.com/obituaries/patsy-mccormick
LOCATION:FairHaven Funeral Home and Cremation Services 6557 N Clinton St  
	Fort Wayne IN 46825
GEO:41.1401619;-85.1181054
END:VEVENT
END:VCALENDAR