BEGIN:VCALENDAR
VERSION:2.0
PRODID:-//Tukios.com/
BEGIN:VEVENT
UID:cb8bad5e-c62e-473a-821b-05430913f90d@www.fairhavenfortwayne.com
DTSTAMP:20260420T222328Z
DTSTART:20260425T170000Z
DTEND:20260425T180000Z
SUMMARY:Celebration of Life
DESCRIPTION:
URL:https://www.fairhavenfortwayne.com/obituaries/michael-casey
LOCATION:The Salvation Army Corps Community Center 2901 North Clinton 
	Street  Fort Wayne IN 46805
GEO:41.1021247;-85.1387404
END:VEVENT
END:VCALENDAR