BEGIN:VCALENDAR
VERSION:2.0
PRODID:-//Tukios.com/
BEGIN:VEVENT
UID:6741bb27-6ad9-43df-9750-28167fc8cc6e@www.fairhavenfortwayne.com
DTSTAMP:20260420T222328Z
DTSTART:20260425T180000Z
DTEND:20260425T200000Z
SUMMARY:Visitation
DESCRIPTION:
URL:https://www.fairhavenfortwayne.com/obituaries/michael-casey
LOCATION:The Salvation Army Corps Community Center 2901 North Clinton 
	Street  Fort Wayne IN 46805
GEO:41.1021247;-85.1387404
END:VEVENT
END:VCALENDAR