BEGIN:VCALENDAR
VERSION:2.0
PRODID:-//Tukios.com/
BEGIN:VEVENT
UID:05cdb99c-d74d-4d9c-a86a-32f8d37e6680@www.fairhavenfortwayne.com
DTSTAMP:20260421T014031Z
DTSTART:20260425T130000Z
DTEND:20260425T143000Z
SUMMARY:Visitation
DESCRIPTION:
URL:https://www.fairhavenfortwayne.com/obituaries/matthew-robinette
LOCATION:Emanuel Lutheran Church 800 Green Street  New Haven IN 46774
GEO:41.0688872;-85.0105136
END:VEVENT
END:VCALENDAR