BEGIN:VCALENDAR
VERSION:2.0
PRODID:-//Tukios.com/
BEGIN:VEVENT
UID:8aa03135-2426-405a-b2a7-761b73e317bc@www.fairhavenfortwayne.com
DTSTAMP:20260421T014032Z
DTSTART:20260424T220000Z
DTEND:20260425T000000Z
SUMMARY:Visitation
DESCRIPTION:
URL:https://www.fairhavenfortwayne.com/obituaries/matthew-robinette
LOCATION:Emanuel Lutheran Church 800 Green Street  New Haven IN 46774
GEO:41.0688872;-85.0105136
END:VEVENT
END:VCALENDAR