BEGIN:VCALENDAR
VERSION:2.0
PRODID:-//Tukios.com/
BEGIN:VEVENT
UID:9e8dd0bb-6588-4863-859b-e83fc17905f4@www.fairhavenfortwayne.com
DTSTAMP:20260421T014031Z
DTSTART:20260424T190000Z
DTEND:20260424T210000Z
SUMMARY:Visitation
DESCRIPTION:
URL:https://www.fairhavenfortwayne.com/obituaries/matthew-robinette
LOCATION:Emanuel Lutheran Church 800 Green Street  New Haven IN 46774
GEO:41.0688872;-85.0105136
END:VEVENT
END:VCALENDAR