BEGIN:VCALENDAR
VERSION:2.0
PRODID:-//Tukios.com/
BEGIN:VEVENT
UID:c67e9d6e-ab0c-42d8-9066-e9bb54da8155@www.fairhavenfortwayne.com
DTSTAMP:20260421T014032Z
DTSTART:20260425T143000Z
DTEND:20260425T153000Z
SUMMARY:Funeral Service
DESCRIPTION:
URL:https://www.fairhavenfortwayne.com/obituaries/matthew-robinette
LOCATION:Emanuel Lutheran Church 800 Green Street  New Haven IN 46774
GEO:41.0688872;-85.0105136
END:VEVENT
END:VCALENDAR