BEGIN:VCALENDAR
VERSION:2.0
PRODID:-//Tukios.com/
BEGIN:VEVENT
UID:208d89e0-fbe3-4133-ad60-38f188e70889@www.fairhavenfortwayne.com
DTSTAMP:20260422T192903Z
DTSTART:20260501T180000Z
DTEND:20260501T200000Z
SUMMARY:Visitation
DESCRIPTION:
URL:https://www.fairhavenfortwayne.com/obituaries/laverne-van-drunen
LOCATION:FairHaven Funeral Home and Cremation Services 6557 N Clinton St  
	Fort Wayne IN 46825
GEO:41.1401619;-85.1181054
END:VEVENT
END:VCALENDAR