BEGIN:VCALENDAR
VERSION:2.0
PRODID:-//Tukios.com/
BEGIN:VEVENT
UID:9402b112-b848-4576-ada8-1cc3f9961f74@www.fairhavenfortwayne.com
DTSTAMP:20260422T192553Z
DTSTART:20260501T200000Z
DTEND:20260501T210000Z
SUMMARY:Celebration of Life
DESCRIPTION:
URL:https://www.fairhavenfortwayne.com/obituaries/laverne-van-drunen
LOCATION:FairHaven Funeral Home and Cremation Services 6557 N Clinton St  
	Fort Wayne IN 46825
GEO:41.1401619;-85.1181054
END:VEVENT
END:VCALENDAR