BEGIN:VCALENDAR
VERSION:2.0
PRODID:-//Tukios.com/
BEGIN:VEVENT
UID:4bc2af24-0d5c-4401-81d3-2dc0237c8872@www.fairhavenfortwayne.com
DTSTAMP:20260421T085212Z
DTSTART:20260418T140000Z
DTEND:20260418T150000Z
SUMMARY:Visitation
DESCRIPTION:
URL:https://www.fairhavenfortwayne.com/obituaries/george-elonzae
LOCATION:Emmanuel Lutheran Church 917 West Jefferson Boulevard  Fort 
	Wayne IN 46802
GEO:41.0740238;-85.1506942
END:VEVENT
END:VCALENDAR