BEGIN:VCALENDAR
VERSION:2.0
PRODID:-//Tukios.com/
BEGIN:VEVENT
UID:f9e9d75a-86be-409c-81fd-c995e5d1b5c0@www.fairhavenfortwayne.com
DTSTAMP:20260425T002938Z
DTSTART:20260502T160000Z
DTEND:20260502T170000Z
SUMMARY:Reception
DESCRIPTION:
URL:https://www.fairhavenfortwayne.com/obituaries/carol-tyndall
LOCATION:Plymouth Congregational Church 501 West Berry Street  Fort Wayne 
	IN 46802
GEO:41.0781299;-85.1461161
END:VEVENT
END:VCALENDAR