BEGIN:VCALENDAR
VERSION:2.0
PRODID:-//Tukios.com/
BEGIN:VEVENT
UID:869f4729-45bc-4ebb-8d93-b70f12509ffb@www.fairhavenfortwayne.com
DTSTAMP:20260425T003245Z
DTSTART:20260502T150000Z
DTEND:20260502T160000Z
SUMMARY:Celebration of Life
DESCRIPTION:
URL:https://www.fairhavenfortwayne.com/obituaries/carol-tyndall
LOCATION:Plymouth Congregational Church 501 West Berry Street  Fort Wayne 
	IN 46802
GEO:41.0781299;-85.1461161
END:VEVENT
END:VCALENDAR