BEGIN:VCALENDAR
VERSION:2.0
PRODID:-//Tukios.com/
BEGIN:VEVENT
UID:4ddb01af-f098-4b61-8749-29d1518ec539@www.fairhavenfortwayne.com
DTSTAMP:20260425T003558Z
DTSTART:20260502T140000Z
DTEND:20260502T150000Z
SUMMARY:Visitation
DESCRIPTION:
URL:https://www.fairhavenfortwayne.com/obituaries/carol-tyndall
LOCATION:Plymouth Congregational Church 501 West Berry Street  Fort Wayne 
	IN 46802
GEO:41.0781299;-85.1461161
END:VEVENT
END:VCALENDAR