BEGIN:VCALENDAR
VERSION:2.0
PRODID:-//Tukios.com/
BEGIN:VEVENT
UID:c744b117-4074-40aa-a285-a93ab7eab75b@www.fairhavenfortwayne.com
DTSTAMP:20260422T000424Z
DTSTART:20260425T230000Z
DTEND:20260426T000000Z
SUMMARY:Funeral Service
DESCRIPTION:
URL:https://www.fairhavenfortwayne.com/obituaries/blake-kiessling
LOCATION: 6557 N Clinton St  Fort Wayne IN 46825
GEO:41.1401619;-85.1181054
END:VEVENT
END:VCALENDAR