BEGIN:VCALENDAR
VERSION:2.0
PRODID:-//Tukios.com/
BEGIN:VEVENT
UID:6a1bb955-1300-4a74-bad2-1d71fd376512@www.fairhavenfortwayne.com
DTSTAMP:20260422T000300Z
DTSTART:20260425T210000Z
DTEND:20260425T230000Z
SUMMARY:Visitation
DESCRIPTION:
URL:https://www.fairhavenfortwayne.com/obituaries/blake-kiessling
LOCATION: 6557 N Clinton St  Fort Wayne IN 46825
GEO:41.1401619;-85.1181054
END:VEVENT
END:VCALENDAR