BEGIN:VCALENDAR
VERSION:2.0
PRODID:-//Tukios.com/
BEGIN:VEVENT
UID:7a68a2fd-a8a7-4f7e-b60f-e5215511cfba@www.fairhavenfortwayne.com
DTSTAMP:20260421T235817Z
DTSTART:20260428T200000Z
DTEND:20260428T230000Z
SUMMARY:Visitation
DESCRIPTION:
URL:https://www.fairhavenfortwayne.com/obituaries/anatalia-thorp
LOCATION:FairHaven Funeral Home and Cremation Services 6557 N Clinton St  
	Fort Wayne IN 46825
GEO:41.1401619;-85.1181054
END:VEVENT
END:VCALENDAR