BEGIN:VCALENDAR
VERSION:2.0
PRODID:-//Tukios.com/
BEGIN:VEVENT
UID:b59b485b-1c2d-4a0f-bcd1-740f3f35aaf3@www.fairhavenfortwayne.com
DTSTAMP:20260421T235827Z
DTSTART:20260429T133000Z
DTEND:20260429T143000Z
SUMMARY:Visitation
DESCRIPTION:
URL:https://www.fairhavenfortwayne.com/obituaries/anatalia-thorp
LOCATION:St. John the Baptist Catholic Church New Haven 943 Powers Street 
	 New Haven IN 46774
GEO:41.07639;-85.0161187
END:VEVENT
END:VCALENDAR