BEGIN:VCALENDAR
VERSION:2.0
PRODID:-//Tukios.com/
BEGIN:VEVENT
UID:3e29ce5f-cc1c-4243-b751-32ac54ba8a09@www.fairhavenfortwayne.com
DTSTAMP:20260421T235622Z
DTSTART:20260428T193000Z
DTEND:20260428T203000Z
SUMMARY:Rosary
DESCRIPTION:
URL:https://www.fairhavenfortwayne.com/obituaries/anatalia-thorp
LOCATION:FairHaven Funeral Home and Cremation Services 6557 N Clinton St  
	Fort Wayne IN 46825
GEO:41.1401619;-85.1181054
END:VEVENT
END:VCALENDAR