BEGIN:VCALENDAR
VERSION:2.0
PRODID:-//Tukios.com/
BEGIN:VEVENT
UID:84714a80-4b3b-4a6e-b906-2834cb34aea9@www.fairhavenfortwayne.com
DTSTAMP:20260422T000327Z
DTSTART:20260429T143000Z
DTEND:20260429T153000Z
SUMMARY:Funeral Mass
DESCRIPTION:
URL:https://www.fairhavenfortwayne.com/obituaries/anatalia-thorp
LOCATION:St. John the Baptist Catholic Church New Haven 943 Powers Street 
	 New Haven IN 46774
GEO:41.07639;-85.0161187
END:VEVENT
END:VCALENDAR